BEGIN:VCALENDAR
VERSION:2.0
PRODID:-//ChamberMaster//Event Calendar 2.0//EN
METHOD:PUBLISH
X-PUBLISHED-TTL:P3D
REFRESH-INTERVAL:P3D
CALSCALE:GREGORIAN
BEGIN:VEVENT
DTSTART:20210717T140000Z
DTEND:20210717T170000Z
X-MICROSOFT-CDO-ALLDAYEVENT:FALSE
SUMMARY:Kid's Fest 2021 Hosted by Canton Main Street
DESCRIPTION:Canton MainStreet Kid's Fest: Pirates & Mermaids\, Adventures at Sea! \n\n\n\nFREE games\, crafts and activities will be provided by local businesses and organizations. Games and activities include: Dolphin Ring Toss\, Captain Hook Coin Drop\, Clothes Pin Mermaids\, Pirate Hook Ring Toss\, Walk the Plank\, Message in a Bottle Necklaces\, Hunt for Hidden Treasure\, Cannon Ball Throwing\, Pirate Painting in Japanese\, Rock Painting\, and Photo Booths. Kids can also have fun playing in a Pirate themed bouncy house! Beverages and treats will also be available for purchase!\n\n\n\nSponsored in part by Canton Main Street\, City of Canton\, CEFCU\, Crawford's Home Furnishings\, Canton Elks Lodge #626\, Monical's Pizza\, TBK Bank\, Edward Jones   Maggie Cecil\, and Cole & Amanda Atchley.
X-ALT-DESC;FMTTYPE=text/html:<span style="font-size:14px\;"><span style="font-family:arial\;">Canton MainStreet Kid&#39\;s Fest: Pirates &amp\; Mermaids\, Adventures at Sea!&nbsp\;<br />\n<br />\nFREE games\, crafts and activities will be provided by local businesses and organizations. Games and activities include: <span style="color:black\;">Dolphin Ring Toss</span>\, <span style="color:black\;">Captain Hook Coin Drop</span>\, <span style="color:black\;">Clothes Pin Mermaids</span>\, <span style="color:black\;">Pirate Hook Ring Toss</span>\, <span style="color:black\;">Walk the Plank</span>\, <span style="color:black\;">Message in a Bottle Necklaces</span>\, <span style="color:black\;">Hunt for Hidden Treasure</span>\, <span style="color:black\;">Cannon Ball Throwing</span>\, <span style="color:black\;">Pirate Painting in Japanese</span>\, <span style="color:black\;">Rock Painting</span>\, and <span style="color:black\;">Photo Booths. Kids can also have fun playing in a Pirate themed bouncy house! Beverages and treats will also be available for purchase!</span><br />\n<br />\nSponsored in part by Canton Main Street\, City of Canton\, CEFCU\, Crawford&rsquo\;s Home Furnishings\, Canton Elks Lodge #626\, Monical&rsquo\;s Pizza\, TBK Bank\, Edward Jones &ndash\; Maggie Cecil\, and Cole &amp\; Amanda Atchley.&nbsp\;</span></span><span style="color:black\;"> </span>
LOCATION:Canton Downtown Jones Park
UID:e.1688.7593
SEQUENCE:3
DTSTAMP:20260422T114721Z
URL:https://cantondirectory.csmdemo.com/events/details/kid-s-fest-2021-hosted-by-canton-main-street-7593
END:VEVENT

END:VCALENDAR
