BEGIN:VCALENDAR
VERSION:2.0
PRODID:-//ChamberMaster//Event Calendar 2.0//EN
METHOD:PUBLISH
X-PUBLISHED-TTL:P3D
REFRESH-INTERVAL:P3D
CALSCALE:GREGORIAN
BEGIN:VEVENT
DTSTART:20220709T140000Z
DTEND:20220709T170000Z
X-MICROSOFT-CDO-ALLDAYEVENT:FALSE
SUMMARY:Kids Fest - Picnic in the Park
DESCRIPTION:Kids Fest - Picnic in the Park \n\nPut on by Canton Main Street
X-ALT-DESC;FMTTYPE=text/html:Kids Fest - Picnic in the Park&nbsp\;<br />\nPut on by Canton Main Street
LOCATION:Downtown Canton in Jones Park
UID:e.1688.7769
SEQUENCE:3
DTSTAMP:20260421T183305Z
URL:https://cantondirectory.csmdemo.com/events/details/kids-fest-picnic-in-the-park-7769
END:VEVENT

END:VCALENDAR
