BEGIN:VCALENDAR
VERSION:2.0
PRODID:-//ChamberMaster//Event Calendar 2.0//EN
METHOD:PUBLISH
X-PUBLISHED-TTL:P3D
REFRESH-INTERVAL:P3D
CALSCALE:GREGORIAN
BEGIN:VEVENT
DTSTART:20211113T160000Z
DTEND:20211113T220000Z
X-MICROSOFT-CDO-ALLDAYEVENT:FALSE
SUMMARY:Kids Giveaway - Make your own Pottery!
DESCRIPTION:As part of Native American Heritage month\, celebrate a traditional practice that has been observed in Illinois for thousands of years! Kids are welcome to pick up a free activity bag containing clay to make their own Native style Pinch Pot on Saturday\, November 13th between 10:00 a.m. and 4:00 p.m. \n\nSupplies are limited and available on a first come\, first served basis. Please share a photo of your finished piece on the Museum's Facebook page\, Illinois State Museum-Dickson Mounds.
X-ALT-DESC;FMTTYPE=text/html:<p style="margin: 0px 0px 1.5em\; color: rgb(0\, 0\, 0)\; font-family: &quot\;Trebuchet MS&quot\;\, &quot\;Helvetica Neue&quot\;\, Arial\, Helvetica\, sans-serif\; font-size: 14px\;">As part of Native American Heritage month\, celebrate a traditional practice that has been observed in Illinois for thousands of years! Kids are welcome to pick up a free activity bag containing clay to make their own Native style Pinch Pot on Saturday\, November 13th between 10:00 a.m. and 4:00 p.m.&nbsp\;</p>\n\n<p style="margin: 0px 0px 1.5em\; color: rgb(0\, 0\, 0)\; font-family: &quot\;Trebuchet MS&quot\;\, &quot\;Helvetica Neue&quot\;\, Arial\, Helvetica\, sans-serif\; font-size: 14px\;">Supplies are limited and available on a first come\, first served basis. Please share a photo of your finished piece on the Museum&rsquo\;s Facebook page\, Illinois State Museum-Dickson Mounds.</p>\n
LOCATION:Dickson Mounds Museum\, 10956 N. Dickson Mounds Rd.\, Lewistown
UID:e.1688.7696
SEQUENCE:3
DTSTAMP:20260422T051437Z
URL:https://cantondirectory.csmdemo.com/events/details/kids-giveaway-make-your-own-pottery-7696
END:VEVENT

END:VCALENDAR
