BEGIN:VCALENDAR
VERSION:2.0
PRODID:-//ChamberMaster//Event Calendar 2.0//EN
METHOD:PUBLISH
X-PUBLISHED-TTL:P3D
REFRESH-INTERVAL:P3D
CALSCALE:GREGORIAN
BEGIN:VEVENT
DTSTART:20210726T230000Z
DTEND:20210727T000000Z
X-MICROSOFT-CDO-ALLDAYEVENT:FALSE
SUMMARY:LGBTQ Partner/Spousal Caregiver Support
DESCRIPTION:Presented by: Alzheimer's Association Illinois Chapter This group is for: Caregiving spouses and partners\, providing care for a loved one who has Alzheimer's disease or another dementia\, who identify as LGBTQ. Join us for confidential support and conversation discussing Alzheimer's disease. Build a support system with people who understand. Alzheimer's Association  caregiver support groups\, conducted by trained facilitators\, are a safe place for caregivers\, family and friends of persons with dementia to:   Develop a support system.   Exchange practical information on caregiving challenges and possible solutions.   Talk through issues and ways of coping.   Share feelings\, needs and concerns.   L earn about community resources Registration is required. Call our 24/7 HELPline at 800.272.3900 to Register Date and Time Monday\, July 26\, 2021 6:00 PM - 7:00 PM CDT On the 4th Monday of the Month at 6 p.m.
X-ALT-DESC;FMTTYPE=text/html:Presented by: Alzheimer&#39\;s Association Illinois Chapter This group is for: Caregiving spouses and partners\, providing care for a loved one who has Alzheimer&#39\;s disease or another dementia\, who identify as LGBTQ. Join us for confidential support and conversation discussing Alzheimer&#39\;s disease. Build a support system with people who understand. Alzheimer&#39\;s Association&reg\; caregiver support groups\, conducted by trained facilitators\, are a safe place for caregivers\, family and friends of persons with dementia to: &bull\; Develop a support system. &bull\; Exchange practical information on caregiving challenges and possible solutions. &bull\; Talk through issues and ways of coping. &bull\; Share feelings\, needs and concerns. &bull\; L earn about community resources Registration is required. Call our 24/7 HELPline at 800.272.3900 to Register Date and Time Monday\, July 26\, 2021 6:00 PM - 7:00 PM CDT On the 4th Monday of the Month at 6 p.m.
LOCATION:Join us Virtually Via Zoom
UID:e.1688.7603
SEQUENCE:3
DTSTAMP:20260422T115230Z
URL:https://cantondirectory.csmdemo.com/events/details/lgbtq-partner-spousal-caregiver-support-07-26-2021-7603
END:VEVENT

END:VCALENDAR
