BEGIN:VCALENDAR
VERSION:2.0
PRODID:-//ChamberMaster//Event Calendar 2.0//EN
METHOD:PUBLISH
X-PUBLISHED-TTL:P3D
REFRESH-INTERVAL:P3D
CALSCALE:GREGORIAN
BEGIN:VEVENT
DTSTART:20210823T230000Z
DTEND:20210824T000000Z
X-MICROSOFT-CDO-ALLDAYEVENT:FALSE
SUMMARY:LGBTQ Partner/Spousal Caregiver Support
DESCRIPTION:Presented by: Alzheimer's Association Illinois Chapter This group is for: Caregiving spouses and partners\, providing care for a loved one who has Alzheimer's disease or another dementia\, who identify as LGBTQ. Join us for confidential support and conversation discussing Alzheimer's disease. Build a support system with people who understand. Alzheimer's Association  caregiver support groups\, conducted by trained facilitators\, are a safe place for caregivers\, family and friends of persons with dementia to:   Develop a support system.   Exchange practical information on caregiving challenges and possible solutions.   Talk through issues and ways of coping.   Share feelings\, needs and concerns.   L earn about community resources Registration is required. Call our 24/7 HELPline at 800.272.3900 to Register
X-ALT-DESC;FMTTYPE=text/html:Presented by: Alzheimer&#39\;s Association Illinois Chapter This group is for: Caregiving spouses and partners\, providing care for a loved one who has Alzheimer&#39\;s disease or another dementia\, who identify as LGBTQ. Join us for confidential support and conversation discussing Alzheimer&#39\;s disease. Build a support system with people who understand. Alzheimer&#39\;s Association&reg\; caregiver support groups\, conducted by trained facilitators\, are a safe place for caregivers\, family and friends of persons with dementia to: &bull\; Develop a support system. &bull\; Exchange practical information on caregiving challenges and possible solutions. &bull\; Talk through issues and ways of coping. &bull\; Share feelings\, needs and concerns. &bull\; L earn about community resources Registration is required. Call our 24/7 HELPline at 800.272.3900 to Register
LOCATION:Join us Virtually by Zoom
UID:e.1688.7633
SEQUENCE:3
DTSTAMP:20260422T115330Z
URL:https://cantondirectory.csmdemo.com/events/details/lgbtq-partner-spousal-caregiver-support-08-23-2021-7633
END:VEVENT

END:VCALENDAR
