BEGIN:VCALENDAR
VERSION:2.0
PRODID:-//ChamberMaster//Event Calendar 2.0//EN
METHOD:PUBLISH
X-PUBLISHED-TTL:P3D
REFRESH-INTERVAL:P3D
CALSCALE:GREGORIAN
BEGIN:VEVENT
DTSTART:20220916T210000Z
DTEND:20220917T000000Z
X-MICROSOFT-CDO-ALLDAYEVENT:FALSE
SUMMARY:P&O Band Chili Supper
DESCRIPTION:P&O Band Chili Supper
X-ALT-DESC;FMTTYPE=text/html:P&amp\;O Band Chili Supper&nbsp\;
LOCATION:
UID:e.1688.7784
SEQUENCE:3
DTSTAMP:20260421T140215Z
URL:https://cantondirectory.csmdemo.com/events/details/p-o-band-chili-supper-7784
END:VEVENT

END:VCALENDAR
