BEGIN:VCALENDAR
VERSION:2.0
PRODID:-//ChamberMaster//Event Calendar 2.0//EN
METHOD:PUBLISH
X-PUBLISHED-TTL:P3D
REFRESH-INTERVAL:P3D
CALSCALE:GREGORIAN
BEGIN:VEVENT
DTSTART:20230429T140000Z
DTEND:20230429T170000Z
X-MICROSOFT-CDO-ALLDAYEVENT:FALSE
SUMMARY:Red Dog 7th Annual 5K Run Walk Fundraiser
DESCRIPTION:Please join us for the 7th Annual Red Dog Run/Walk for CF. This event will be a 5K run and 1 mile walk to raise money to fight cystic fibrosis. Join us afterwards for lunch at world-famous Billy's Tap!!!Please join us for the 7th Annual Red Dog Run/Walk for CF. This event will be a 5K run and 1 mile walk to raise money to fight cystic fibrosis. Join us afterwards for lunch at world-famous Billy's Tap!!!
X-ALT-DESC;FMTTYPE=text/html:<span style="color: rgb(5\, 5\, 5)\; font-family: sans-serif\, Arial\, Verdana\, &quot\;Trebuchet MS&quot\;\; font-size: 13px\; background-color: rgb(255\, 255\, 255)\;">Please join us for the 7th Annual Red Dog Run/Walk for CF. This event will be a 5K run and 1 mile walk to raise money to fight cystic fibrosis.&nbsp\;Join us afterwards for lunch at world-famous Billy&rsquo\;s Tap!!!</span><span background-color:="" font-size:="" segoe="" style="color: rgb(5\, 5\, 5)\; font-family: " ui="">Please join us for the 7th Annual Red Dog Run/Walk for CF. This event will be a 5K run and 1 mile walk to raise money to fight cystic fibrosis.&nbsp\;Join us afterwards for lunch at world-famous Billy&rsquo\;s Tap!!!</span>
LOCATION:Starts at Advanced Rehab on the East Side of the square in Downtown Canton
UID:e.1688.7939
SEQUENCE:3
DTSTAMP:20260421T015636Z
URL:https://cantondirectory.csmdemo.com/events/details/red-dog-7th-annual-5k-run-walk-fundraiser-7939
END:VEVENT

END:VCALENDAR
