BEGIN:VCALENDAR
VERSION:2.0
PRODID:-//ChamberMaster//Event Calendar 2.0//EN
METHOD:PUBLISH
X-PUBLISHED-TTL:P3D
REFRESH-INTERVAL:P3D
CALSCALE:GREGORIAN
BEGIN:VEVENT
DTSTART:20221002T140000Z
DTEND:20221002T220000Z
X-MICROSOFT-CDO-ALLDAYEVENT:FALSE
SUMMARY:Scenic Drive
DESCRIPTION:Vendors\, Food\, Music\, Crafts\, Antiques
X-ALT-DESC;FMTTYPE=text/html:Vendors\, Food\, Music\, Crafts\, Antiques
LOCATION:Fulton County
UID:e.1688.7822
SEQUENCE:3
DTSTAMP:20260421T122801Z
URL:https://cantondirectory.csmdemo.com/events/details/scenic-drive-7822
END:VEVENT

END:VCALENDAR
