BEGIN:VCALENDAR
VERSION:2.0
PRODID:-//ChamberMaster//Event Calendar 2.0//EN
METHOD:PUBLISH
X-PUBLISHED-TTL:P3D
REFRESH-INTERVAL:P3D
CALSCALE:GREGORIAN
BEGIN:VEVENT
DTSTART:20230409T120000Z
DTEND:20230409T160000Z
X-MICROSOFT-CDO-ALLDAYEVENT:FALSE
SUMMARY:Shields Chapel United Methodist Church Easter Service
DESCRIPTION:Easter Service
X-ALT-DESC;FMTTYPE=text/html:Easter Service
LOCATION:Shields Chapel United Methodist Church
UID:e.1688.7905
SEQUENCE:3
DTSTAMP:20260421T015510Z
URL:https://cantondirectory.csmdemo.com/events/details/shields-chapel-united-methodist-church-easter-service-7905
END:VEVENT

END:VCALENDAR
