BEGIN:VCALENDAR
VERSION:2.0
PRODID:-//ChamberMaster//Event Calendar 2.0//EN
METHOD:PUBLISH
X-PUBLISHED-TTL:P3D
REFRESH-INTERVAL:P3D
CALSCALE:GREGORIAN
BEGIN:VEVENT
DTSTART:20211105T140000Z
DTEND:20211105T230000Z
X-MICROSOFT-CDO-ALLDAYEVENT:FALSE
SUMMARY:Sneak Peek and Country Store
DESCRIPTION:The Graham Hospital Service League is sponsoring their annual Sneak Peek and Country Store. Come shop early for Christmas items. \n\n\n\nProceeds will be used to benefit the Graham Hospital and Graham Medical Equipment Fund.
X-ALT-DESC;FMTTYPE=text/html:The Graham Hospital Service League is sponsoring their annual Sneak Peek and Country Store. Come shop early for Christmas items.&nbsp\;<br />\n<br />\nProceeds will be used to benefit the Graham Hospital and Graham Medical Equipment Fund.&nbsp\;
LOCATION:Lobby area of Graham Hospital
UID:e.1688.7680
SEQUENCE:3
DTSTAMP:20260422T051856Z
URL:https://cantondirectory.csmdemo.com/events/details/sneak-peek-and-country-store-7680
END:VEVENT

END:VCALENDAR
