BEGIN:VCALENDAR
VERSION:2.0
PRODID:-//ChamberMaster//Event Calendar 2.0//EN
METHOD:PUBLISH
X-PUBLISHED-TTL:P3D
REFRESH-INTERVAL:P3D
CALSCALE:GREGORIAN
BEGIN:VEVENT
DTSTART:20230409T163000Z
DTEND:20230409T173000Z
X-MICROSOFT-CDO-ALLDAYEVENT:FALSE
SUMMARY:South Park United Methodist Church Easter Service
DESCRIPTION:Easter Service
X-ALT-DESC;FMTTYPE=text/html:Easter Service
LOCATION:South Park United Methodist Church 600 S. 1st Avenue Canton\, IL 61520
UID:e.1688.7906
SEQUENCE:3
DTSTAMP:20260421T015637Z
URL:https://cantondirectory.csmdemo.com/events/details/south-park-united-methodist-church-easter-service-7906
END:VEVENT

END:VCALENDAR
