BEGIN:VCALENDAR
VERSION:2.0
PRODID:-//ChamberMaster//Event Calendar 2.0//EN
METHOD:PUBLISH
X-PUBLISHED-TTL:P3D
REFRESH-INTERVAL:P3D
CALSCALE:GREGORIAN
BEGIN:VEVENT
DTSTART:20231123T010000Z
DTEND:20231123T020000Z
X-MICROSOFT-CDO-ALLDAYEVENT:FALSE
SUMMARY:South Park United Methodist Church Thanksgiving Eve Service
DESCRIPTION:The South Park United Methodist Church\, 600 S. 1st Avenue in Canton\, will be holding Thanksgiving Eve services at 7 p.m. on Wednesday\, November 22.
X-ALT-DESC;FMTTYPE=text/html:<div data-setdir="false" dir="ltr" style="border: 0px\; font-variant-numeric: inherit\; font-variant-east-asian: inherit\; font-variant-alternates: inherit\; font-variant-position: inherit\; font-stretch: inherit\; font-size: 16px\; line-height: inherit\; font-family: &quot\;Helvetica Neue&quot\;\, Helvetica\, Arial\, sans-serif\; font-optical-sizing: inherit\; font-kerning: inherit\; font-feature-settings: inherit\; font-variation-settings: inherit\; margin: 0px\; padding: 0px\; vertical-align: baseline\; background-color: rgb(255\, 255\, 255)\;"><b data-event-added="1">The South Park United Methodist Church\, 600 S. 1st Avenue in Canton\, will be holding&nbsp\;<span class="HQEo7" data-markjs="true" role="link" style="border-width: 0px 0px 1px\; border-top-style: initial\; border-right-style: initial\; border-bottom-style: dashed\; border-left-style: initial\; border-top-color: initial\; border-right-color: initial\; border-bottom-color: var(--themePrimary)\; border-left-color: initial\; border-image: initial\; font: inherit\; margin: 0px\; padding: 1px 0px\; vertical-align: baseline\; color: var(--themePrimary)\; cursor: pointer\;" tabindex="0">Thanksgiving</span>&nbsp\;Eve services at 7 p.m. on Wednesday\, November 22.</b></div>\n\n<div>&nbsp\;</div>\n
LOCATION:South Park UMC 600 S. 1st Avenue in Canton
UID:e.1688.8069
SEQUENCE:3
DTSTAMP:20260420T144806Z
URL:https://cantondirectory.csmdemo.com/events/details/south-park-united-methodist-church-thanksgiving-eve-service-8069
END:VEVENT

END:VCALENDAR
