BEGIN:VCALENDAR
VERSION:2.0
PRODID:-//ChamberMaster//Event Calendar 2.0//EN
METHOD:PUBLISH
X-PUBLISHED-TTL:P3D
REFRESH-INTERVAL:P3D
CALSCALE:GREGORIAN
BEGIN:VEVENT
DTSTART:20221018T230000Z
DTEND:20221019T013000Z
X-MICROSOFT-CDO-ALLDAYEVENT:FALSE
SUMMARY:Spook Trail
DESCRIPTION:Spook Trail \n\nOctober 18th \n\nRain Date is October 19th
X-ALT-DESC;FMTTYPE=text/html:Spook Trail&nbsp\;<br />\nOctober 18th&nbsp\;<br />\nRain Date is October 19th<br />\n&nbsp\;
LOCATION:Nagel Playground\, Lakeland Park Canton\, IL
UID:e.1688.7818
SEQUENCE:3
DTSTAMP:20260421T122647Z
URL:https://cantondirectory.csmdemo.com/events/details/spook-trail-7818
END:VEVENT

END:VCALENDAR
