BEGIN:VCALENDAR
VERSION:2.0
PRODID:-//ChamberMaster//Event Calendar 2.0//EN
METHOD:PUBLISH
X-PUBLISHED-TTL:P3D
REFRESH-INTERVAL:P3D
CALSCALE:GREGORIAN
BEGIN:VEVENT
DTSTART:20210922T233000Z
DTEND:20210923T010000Z
X-MICROSOFT-CDO-ALLDAYEVENT:FALSE
SUMMARY:Substance Use Town Hall Meeting
DESCRIPTION:Community education and information on substance use in Fulton County. Key note speaker is Chris Schaffner of JOLT Harm Reduction in Peoria Il.
X-ALT-DESC;FMTTYPE=text/html:Community education and information on substance use in Fulton County. Key note speaker is Chris Schaffner of JOLT Harm Reduction in Peoria Il.
LOCATION:American Grille Banquet Room 525 S 5th\, Canton Il
UID:e.1688.7658
SEQUENCE:3
DTSTAMP:20260422T102033Z
URL:https://cantondirectory.csmdemo.com/events/details/substance-use-town-hall-meeting-7658
END:VEVENT

END:VCALENDAR
