BEGIN:VCALENDAR
VERSION:2.0
PRODID:-//ChamberMaster//Event Calendar 2.0//EN
METHOD:PUBLISH
X-PUBLISHED-TTL:P3D
REFRESH-INTERVAL:P3D
CALSCALE:GREGORIAN
BEGIN:VEVENT
DTSTART:20221105T150000Z
DTEND:20221105T170000Z
X-MICROSOFT-CDO-ALLDAYEVENT:FALSE
SUMMARY:Tackling our Trials
DESCRIPTION:We want to invite you all to our Men's Prayer Breakfast on November 5\, 2022 at 10:00am (FREE) Guest speaker Joe Jackson of the Minnesota Vikings Purple People Eater
X-ALT-DESC;FMTTYPE=text/html:We want to invite you all to our Men&#39\;s Prayer Breakfast on November 5\, 2022 at 10:00am (FREE) Guest speaker Joe Jackson of the Minnesota Vikings Purple People Eater
LOCATION:First Baptist Church 301 E. Elm St. Canton\, IL 61520
UID:e.1688.7857
SEQUENCE:3
DTSTAMP:20260421T104752Z
URL:https://cantondirectory.csmdemo.com/events/details/tackling-our-trials-7857
END:VEVENT

END:VCALENDAR
