BEGIN:VCALENDAR
VERSION:2.0
PRODID:-//ChamberMaster//Event Calendar 2.0//EN
METHOD:PUBLISH
X-PUBLISHED-TTL:P3D
REFRESH-INTERVAL:P3D
CALSCALE:GREGORIAN
BEGIN:VEVENT
DTSTART:20200130T133000Z
DTEND:20200130T150000Z
X-MICROSOFT-CDO-ALLDAYEVENT:FALSE
SUMMARY:Taking Care of Business Breakfast
DESCRIPTION:This is an informational breakfast regarding Illinois' new mandatory sexual harassment training requirements and the Illinois Workplace Transparancy act. \n\nThis month's TCB Breakfast will be presented by Attorneys Christopher Jump and Abby Clark from Davis & Campbell LLC.
X-ALT-DESC;FMTTYPE=text/html:This is an informational breakfast regarding Illinois&#39\; new mandatory sexual harassment training requirements and the Illinois Workplace Transparancy act.&nbsp\;<br />\nThis month&#39\;s TCB Breakfast will be presented by Attorneys Christopher Jump and Abby Clark from Davis &amp\; Campbell LLC.&nbsp\;
LOCATION:Graham Hospital Lobby Conference Room
UID:e.1688.7009
SEQUENCE:3
DTSTAMP:20260425T011439Z
URL:https://cantondirectory.csmdemo.com/events/details/taking-care-of-business-breakfast-7009
END:VEVENT

END:VCALENDAR
