BEGIN:VCALENDAR
VERSION:2.0
PRODID:-//ChamberMaster//Event Calendar 2.0//EN
METHOD:PUBLISH
X-PUBLISHED-TTL:P3D
REFRESH-INTERVAL:P3D
CALSCALE:GREGORIAN
BEGIN:VEVENT
DTSTART;VALUE=DATE:20240522
DTEND;VALUE=DATE:20240524
TRANSP:TRANSPARENT
X-MICROSOFT-CDO-ALLDAYEVENT:TRUE
SUMMARY:TECHSPO Chicago 2024 Technology Expo (Internet ~ Mobile ~ AdTech ~ MarTech ~ SaaS)
DESCRIPTION:Where Business\, Tech and Innovation Collide in Chicago! TECHSPO Chicago 2024 is your chance to     Check out exhibitors showcasing the next generation of technology & innovation.   Be inspired\, amazed and educated on how these evolving technologies will impact your business for greater growth.   Interact with technology enthusiasts\, build your network and reunite with your peers. The 7th annual TECHSPO Chicago\, two-day technology expo returns May 22rd and 23rd\, 2024 to the iconic Soldier Field Stadium in Chicago\, Illinois. TECHSPO Chicago brings together some of the best developers\, brands\, marketers\, technology providers\, designers\, innovators and evangelists looking to set the pace in our advanced world of technology. Watch exhibitors showcase the next generation of advances in technology & innovation\, including\; Internet\, Mobile\, AdTech\, MarTech and SaaS technologies. Be prepared to be inspired\, amazed and educated on how these evolving technologies will impact your business for greater growth. As part of TECHSPO Chicago is a limited attendance event\, DigiMarCon Midwest 2024 Digital Marketing\, Media and Advertising Conference (https://digimarconmidwest.com). If the conference is where the learning\, theory and inspiration happens\, then the TECHSPO floor is where the testing\, networking and product interaction takes place. Additional Information: Registration Website: https://techspochicago.com/register/ Event Type: Exhibition / Trade Show Event Category: Technology Schedule/Agenda URL: https://techspochicago.com/agenda/ Time Zone: Central Event Location/City: Chicago Venue Name: Soldier Field Stadium Venue Address: Street 1410 Museum Campus Dr Venue Address City: Chicago Venue Address Sate: Illinois Zip Code: 60605 Country: United States of America Cost: $0 Hashtag: #TechspoChicago ImageFile name: techspo-chicago.png Facebook: https://www.facebook.com/techspotechnologyexpo Twitter: https://twitter.com/techspotweets/ Linked In: https://www.linkedin.com/company/techspo Instagram: https://instagram.com/techspogram/ Pinterest: https://www.pinterest.com/techspo/ Keywords: tech\,technology\,innovation\,networking\,media\,itnetworking\,media\,it\,\,geeks\,mobile\,web\,internet\,adtech\,ad tech\,martech\,saas\,software as a service\,expo\,trade show\,chicago\,illinois For complete details visit https://techspochicago.com.
X-ALT-DESC;FMTTYPE=text/html:Where Business\, Tech and Innovation Collide in Chicago! TECHSPO Chicago 2024 is your chance to &hellip\; &ndash\; Check out exhibitors showcasing the next generation of technology &amp\; innovation. &ndash\; Be inspired\, amazed and educated on how these evolving technologies will impact your business for greater growth. &ndash\; Interact with technology enthusiasts\, build your network and reunite with your peers. The 7th annual TECHSPO Chicago\, two-day technology expo returns May 22rd and 23rd\, 2024 to the iconic Soldier Field Stadium in Chicago\, Illinois. TECHSPO Chicago brings together some of the best developers\, brands\, marketers\, technology providers\, designers\, innovators and evangelists looking to set the pace in our advanced world of technology. Watch exhibitors showcase the next generation of advances in technology &amp\; innovation\, including\; Internet\, Mobile\, AdTech\, MarTech and SaaS technologies. Be prepared to be inspired\, amazed and educated on how these evolving technologies will impact your business for greater growth. As part of TECHSPO Chicago is a limited attendance event\, DigiMarCon Midwest 2024 Digital Marketing\, Media and Advertising Conference (https://digimarconmidwest.com). If the conference is where the learning\, theory and inspiration happens\, then the TECHSPO floor is where the testing\, networking and product interaction takes place. Additional Information: Registration Website: https://techspochicago.com/register/ Event Type: Exhibition / Trade Show Event Category: Technology Schedule/Agenda URL: https://techspochicago.com/agenda/ Time Zone: Central Event Location/City: Chicago Venue Name: Soldier Field Stadium Venue Address: Street 1410 Museum Campus Dr Venue Address City: Chicago Venue Address Sate: Illinois Zip Code: 60605 Country: United States of America Cost: $0 Hashtag: #TechspoChicago ImageFile name: techspo-chicago.png Facebook: https://www.facebook.com/techspotechnologyexpo Twitter: https://twitter.com/techspotweets/ Linked In: https://www.linkedin.com/company/techspo Instagram: https://instagram.com/techspogram/ Pinterest: https://www.pinterest.com/techspo/ Keywords: tech\,technology\,innovation\,networking\,media\,itnetworking\,media\,it\,\,geeks\,mobile\,web\,internet\,adtech\,ad tech\,martech\,saas\,software as a service\,expo\,trade show\,chicago\,illinois For complete details visit https://techspochicago.com.
LOCATION:Chicago
UID:e.1688.8095
SEQUENCE:3
DTSTAMP:20260420T061027Z
URL:https://cantondirectory.csmdemo.com/events/details/techspo-chicago-2024-technology-expo-internet-mobile-adtech-martech-saas-05-22-2024-8095
END:VEVENT

END:VCALENDAR
