BEGIN:VCALENDAR
VERSION:2.0
PRODID:-//ChamberMaster//Event Calendar 2.0//EN
METHOD:PUBLISH
X-PUBLISHED-TTL:P3D
REFRESH-INTERVAL:P3D
CALSCALE:GREGORIAN
BEGIN:VEVENT
DTSTART:20210805T143000Z
DTEND:20210805T153000Z
X-MICROSOFT-CDO-ALLDAYEVENT:FALSE
SUMMARY:Tot Time: Fish
DESCRIPTION:Tot Time is happening this month at Dickson Mounds! Adults and their tots will have fun exploring\, discovering\, and learning on the first Thursday of the month. A different topic is featured each month. Registration is not required. Technicians from the Illinois River Biological Station (IRBS) will have various live fish for this show-n-tell program. Participants may enjoy fun crafts and giveaway items\, including fishing poles and tackle boxes. Giveaway items are limited and available on a first come\, first served basis. Older siblings are welcome to attend the program. The 2021 Tot Time program series is sponsored by Canton Chamber of Commerce\, Havana National Bank\, Jeff and Linda Sisson of Havana\, and an anonymous donor.
X-ALT-DESC;FMTTYPE=text/html:Tot Time is happening this month at Dickson Mounds! Adults and their tots will have fun exploring\, discovering\, and learning on the first Thursday of the month. A different topic is featured each month. Registration is not required. Technicians from the Illinois River Biological Station (IRBS) will have various live fish for this show-n-tell program. Participants may enjoy fun crafts and giveaway items\, including fishing poles and tackle boxes. Giveaway items are limited and available on a first come\, first served basis. Older siblings are welcome to attend the program. The 2021 Tot Time program series is sponsored by Canton Chamber of Commerce\, Havana National Bank\, Jeff and Linda Sisson of Havana\, and an anonymous donor.
LOCATION:Dickson Mounds Museum 10956 N. Dickson Mounds Road Lewistown\, IL 61542
UID:e.1688.7609
SEQUENCE:3
DTSTAMP:20260422T085933Z
URL:https://cantondirectory.csmdemo.com/events/details/tot-time-fish-08-05-2021-7609
END:VEVENT

END:VCALENDAR
