BEGIN:VCALENDAR
VERSION:2.0
PRODID:-//ChamberMaster//Event Calendar 2.0//EN
METHOD:PUBLISH
X-PUBLISHED-TTL:P3D
REFRESH-INTERVAL:P3D
CALSCALE:GREGORIAN
BEGIN:VEVENT
DTSTART:20230409T150000Z
DTEND:20230409T163000Z
X-MICROSOFT-CDO-ALLDAYEVENT:FALSE
SUMMARY:Trinity Lutheran Church's Easter Service
DESCRIPTION:Easter Service
X-ALT-DESC;FMTTYPE=text/html:Easter Service
LOCATION:Trinity Lutheran Church 301 E. Chestnut Street Canton\, IL 61520
UID:e.1688.7914
SEQUENCE:3
DTSTAMP:20260421T015359Z
URL:https://cantondirectory.csmdemo.com/events/details/trinity-lutheran-church-s-easter-service-7914
END:VEVENT

END:VCALENDAR
