BEGIN:VCALENDAR
VERSION:2.0
PRODID:-//ChamberMaster//Event Calendar 2.0//EN
METHOD:PUBLISH
X-PUBLISHED-TTL:P3D
REFRESH-INTERVAL:P3D
CALSCALE:GREGORIAN
BEGIN:VEVENT
DTSTART:20210827T170000Z
DTEND:20210827T180000Z
X-MICROSOFT-CDO-ALLDAYEVENT:FALSE
SUMMARY:Understanding Alzheimer's & Dementia & Advancing the Science
DESCRIPTION:Alzheimer's disease is not a normal part of aging. Join us to learn about the impact of Alzheimer's\; the difference between Alzheimer's and dementia\; stages and risk factors\; current research and treatments available for some symptoms\; and Alzheimer's Association resources. Followed by\, the science of dementia\, the impact of Alzheimer's disease\, and the latest in research\, including new studies that highlight the importance of lifestyle in reducing the risk of developing dementia. Registration Call 800.272.3900 Visit alz.org/CRF to explore additional education programs in your area
X-ALT-DESC;FMTTYPE=text/html:Alzheimer&#39\;s disease is not a normal part of aging. Join us to learn about the impact of Alzheimer&#39\;s\; the difference between Alzheimer&#39\;s and dementia\; stages and risk factors\; current research and treatments available for some symptoms\; and Alzheimer&#39\;s Association resources. Followed by\, the science of dementia\, the impact of Alzheimer&#39\;s disease\, and the latest in research\, including new studies that highlight the importance of lifestyle in reducing the risk of developing dementia. Registration Call 800.272.3900 Visit alz.org/CRF to explore additional education programs in your area
LOCATION:Listen by Phone or Join via Zoom Webinar
UID:e.1688.7632
SEQUENCE:3
DTSTAMP:20260422T091922Z
URL:https://cantondirectory.csmdemo.com/events/details/understanding-alzheimer-s-dementia-advancing-the-science-7632
END:VEVENT

END:VCALENDAR
