BEGIN:VCALENDAR
VERSION:2.0
PRODID:-//ChamberMaster//Event Calendar 2.0//EN
METHOD:PUBLISH
X-PUBLISHED-TTL:P3D
REFRESH-INTERVAL:P3D
CALSCALE:GREGORIAN
BEGIN:VEVENT
DTSTART:20210616T170000Z
DTEND:20210616T180000Z
X-MICROSOFT-CDO-ALLDAYEVENT:FALSE
SUMMARY:Understanding Alzheimer's & Dementia Webinar
DESCRIPTION:Alzheimer's Association virtual education program Register by phone: 800.272.3900 or Register online: https://action.alz.org/PersonifyEbusiness/Default.aspx?TabID=1357&productId=74338168
X-ALT-DESC;FMTTYPE=text/html:Alzheimer&#39\;s Association virtual education program Register by phone: 800.272.3900 or Register online: https://action.alz.org/PersonifyEbusiness/Default.aspx?TabID=1357&amp\;productId=74338168
LOCATION:webinar
UID:e.1688.7585
SEQUENCE:3
DTSTAMP:20260422T155202Z
URL:https://cantondirectory.csmdemo.com/events/details/understanding-alzheimer-s-dementia-webinar-06-16-2021-7585
END:VEVENT

END:VCALENDAR
