BEGIN:VCALENDAR
VERSION:2.0
PRODID:-//ChamberMaster//Event Calendar 2.0//EN
METHOD:PUBLISH
X-PUBLISHED-TTL:P3D
REFRESH-INTERVAL:P3D
CALSCALE:GREGORIAN
BEGIN:VEVENT
DTSTART:20210623T150000Z
DTEND:20210623T163000Z
X-MICROSOFT-CDO-ALLDAYEVENT:FALSE
SUMMARY:Understanding Alzheimer's & Dementia Webinar
DESCRIPTION:Alzheimer's Association virtual educational program Register by phone: 800.272.3900 or Register online: https://action.alz.org/PersonifyEbusiness/Events/ALZ/MeetingRegistration.aspx?productId=74941628
X-ALT-DESC;FMTTYPE=text/html:Alzheimer&#39\;s Association virtual educational program Register by phone: 800.272.3900 or Register online: https://action.alz.org/PersonifyEbusiness/Events/ALZ/MeetingRegistration.aspx?productId=74941628
LOCATION:webinar
UID:e.1688.7588
SEQUENCE:3
DTSTAMP:20260422T173113Z
URL:https://cantondirectory.csmdemo.com/events/details/understanding-alzheimer-s-dementia-webinar-06-23-2021-7588
END:VEVENT

END:VCALENDAR
