BEGIN:VCALENDAR
VERSION:2.0
PRODID:-//ChamberMaster//Event Calendar 2.0//EN
METHOD:PUBLISH
X-PUBLISHED-TTL:P3D
REFRESH-INTERVAL:P3D
CALSCALE:GREGORIAN
BEGIN:VEVENT
DTSTART:20201022T150000Z
DTEND:20201022T160000Z
X-MICROSOFT-CDO-ALLDAYEVENT:FALSE
SUMMARY:Understanding Alzheimer's & Dementia Webinar
DESCRIPTION:Alzheimer's Association Education Program Watch online or listen by phone Register Online or by Calling 800.272.3900 Registration Link https://www.communityresourcefinder.org/ResourceView/Index?id=1972976&profileDefinitionId=93
X-ALT-DESC;FMTTYPE=text/html:Alzheimer&#39\;s Association Education Program Watch online or listen by phone Register Online or by Calling 800.272.3900 Registration Link https://www.communityresourcefinder.org/ResourceView/Index?id=1972976&amp\;profileDefinitionId=93
LOCATION:webinar
UID:e.1688.7483
SEQUENCE:3
DTSTAMP:20260424T021215Z
URL:https://cantondirectory.csmdemo.com/events/details/understanding-alzheimer-s-dementia-webinar-10-22-2020-7483
END:VEVENT

END:VCALENDAR
